BEGIN:VCALENDAR
VERSION:2.0
PRODID:-//Edmunds GovTech - ECPv6.15.16//NONSGML v1.0//EN
CALSCALE:GREGORIAN
METHOD:PUBLISH
X-ORIGINAL-URL:https://www.edmundsgovtech.com
X-WR-CALDESC:Events for Edmunds GovTech
REFRESH-INTERVAL;VALUE=DURATION:PT1H
X-Robots-Tag:noindex
X-PUBLISHED-TTL:PT1H
BEGIN:VTIMEZONE
TZID:America/New_York
BEGIN:DAYLIGHT
TZOFFSETFROM:-0500
TZOFFSETTO:-0400
TZNAME:EDT
DTSTART:20250309T070000
END:DAYLIGHT
BEGIN:STANDARD
TZOFFSETFROM:-0400
TZOFFSETTO:-0500
TZNAME:EST
DTSTART:20251102T060000
END:STANDARD
BEGIN:DAYLIGHT
TZOFFSETFROM:-0500
TZOFFSETTO:-0400
TZNAME:EDT
DTSTART:20260308T070000
END:DAYLIGHT
BEGIN:STANDARD
TZOFFSETFROM:-0400
TZOFFSETTO:-0500
TZNAME:EST
DTSTART:20261101T060000
END:STANDARD
BEGIN:DAYLIGHT
TZOFFSETFROM:-0500
TZOFFSETTO:-0400
TZNAME:EDT
DTSTART:20270314T070000
END:DAYLIGHT
BEGIN:STANDARD
TZOFFSETFROM:-0400
TZOFFSETTO:-0500
TZNAME:EST
DTSTART:20271107T060000
END:STANDARD
END:VTIMEZONE
BEGIN:VEVENT
DTSTART;VALUE=DATE:20260913
DTEND;VALUE=DATE:20260917
DTSTAMP:20260425T234415
CREATED:20260421T181108Z
LAST-MODIFIED:20260421T181108Z
UID:10000953-1789257600-1789603199@www.edmundsgovtech.com
SUMMARY:Pennsylvania Municipal Authorities Association Annual Conference
DESCRIPTION:Join us at the PMAA Annual Conference on September 13-16\, in Erie\, PA.
URL:https://www.edmundsgovtech.com/event/pennsylvania-municipal-authorities-association-annual-conference/
LOCATION:Erie\, PA\, Erie\, PA\, United States
CATEGORIES:Conference
ATTACH;FMTTYPE=image/jpeg:https://www.edmundsgovtech.com/wp-content/uploads/EGT-Letter-Logo.jpg
END:VEVENT
BEGIN:VEVENT
DTSTART;VALUE=DATE:20260913
DTEND;VALUE=DATE:20260917
DTSTAMP:20260425T234415
CREATED:20260421T182030Z
LAST-MODIFIED:20260421T182030Z
UID:10000954-1789257600-1789603199@www.edmundsgovtech.com
SUMMARY:Missouri Municipal League Annual Conference
DESCRIPTION:Join us at the MO MML Annual Conference on September 13-16\, in Osage Beach\, MO.
URL:https://www.edmundsgovtech.com/event/missouri-municipal-league-annual-conference/
LOCATION:Osage Beach\, MO\, Osage\, MO\, United States
CATEGORIES:Conference
ATTACH;FMTTYPE=image/jpeg:https://www.edmundsgovtech.com/wp-content/uploads/EGT-Letter-Logo.jpg
END:VEVENT
BEGIN:VEVENT
DTSTART;VALUE=DATE:20260922
DTEND;VALUE=DATE:20260925
DTSTAMP:20260425T234415
CREATED:20260319T145055Z
LAST-MODIFIED:20260319T145055Z
UID:10000946-1790035200-1790294399@www.edmundsgovtech.com
SUMMARY:Government Finance Officers' Association of New Jersey Fall Conference
DESCRIPTION:Join us at the NJ GFOA Fall Conference on September 22-24\, in Atlantic City\, NJ.
URL:https://www.edmundsgovtech.com/event/government-finance-officers-association-of-new-jersey-fall-conference/
LOCATION:Atlantic City\, NJ\, Atlantic City\, NJ
CATEGORIES:Conference
ATTACH;FMTTYPE=image/jpeg:https://www.edmundsgovtech.com/wp-content/uploads/EGT-Letter-Logo.jpg
END:VEVENT
BEGIN:VEVENT
DTSTART;VALUE=DATE:20260930
DTEND;VALUE=DATE:20261003
DTSTAMP:20260425T234415
CREATED:20260407T144111Z
LAST-MODIFIED:20260407T145117Z
UID:10000949-1790726400-1790985599@www.edmundsgovtech.com
SUMMARY:Tennessee Government Finance Officers Association Annual Conference
DESCRIPTION:Join us at the TN TGFOA Annual Conference on September 30-October 2\, in Murfreesboro\,TN.
URL:https://www.edmundsgovtech.com/event/tennessee-government-finance-officers-association-annual-conference/
LOCATION:Murfreesboro\, TN\, Murfreesboro\, TN\, United States
CATEGORIES:Conference
ATTACH;FMTTYPE=image/jpeg:https://www.edmundsgovtech.com/wp-content/uploads/EGT-Letter-Logo.jpg
END:VEVENT
BEGIN:VEVENT
DTSTART;VALUE=DATE:20261117
DTEND;VALUE=DATE:20261120
DTSTAMP:20260425T234415
CREATED:20260306T192212Z
LAST-MODIFIED:20260319T145305Z
UID:10000931-1794873600-1795132799@www.edmundsgovtech.com
SUMMARY:New Jersey League of Municipalities 11th Annual Conference
DESCRIPTION:Join us at the NJLM 11th Annual Conference on November 17-19\, in Atlantic City\, NJ.
URL:https://www.edmundsgovtech.com/event/new-jersey-league-of-municipalities-11th-annual-conference/
LOCATION:Atlantic City\, NJ\, Atlantic City\, NJ
CATEGORIES:Conference
ATTACH;FMTTYPE=image/jpeg:https://www.edmundsgovtech.com/wp-content/uploads/EGT-Letter-Logo.jpg
END:VEVENT
END:VCALENDAR